BEGIN:VCALENDAR
VERSION:2.0
PRODID:-//Uptemiz - ECPv6.15.20//NONSGML v1.0//EN
CALSCALE:GREGORIAN
METHOD:PUBLISH
X-ORIGINAL-URL:https://uptemiz.com
X-WR-CALDESC:Évènements pour Uptemiz
REFRESH-INTERVAL;VALUE=DURATION:PT1H
X-Robots-Tag:noindex
X-PUBLISHED-TTL:PT1H
BEGIN:VTIMEZONE
TZID:Europe/Paris
BEGIN:DAYLIGHT
TZOFFSETFROM:+0100
TZOFFSETTO:+0200
TZNAME:CEST
DTSTART:20250330T010000
END:DAYLIGHT
BEGIN:STANDARD
TZOFFSETFROM:+0200
TZOFFSETTO:+0100
TZNAME:CET
DTSTART:20251026T010000
END:STANDARD
BEGIN:DAYLIGHT
TZOFFSETFROM:+0100
TZOFFSETTO:+0200
TZNAME:CEST
DTSTART:20260329T010000
END:DAYLIGHT
BEGIN:STANDARD
TZOFFSETFROM:+0200
TZOFFSETTO:+0100
TZNAME:CET
DTSTART:20261025T010000
END:STANDARD
BEGIN:DAYLIGHT
TZOFFSETFROM:+0100
TZOFFSETTO:+0200
TZNAME:CEST
DTSTART:20270328T010000
END:DAYLIGHT
BEGIN:STANDARD
TZOFFSETFROM:+0200
TZOFFSETTO:+0100
TZNAME:CET
DTSTART:20271031T010000
END:STANDARD
END:VTIMEZONE
BEGIN:VEVENT
DTSTART;TZID=Europe/Paris:20260530T100000
DTEND;TZID=Europe/Paris:20260531T170000
DTSTAMP:20260421T100800
CREATED:20260216T092830Z
LAST-MODIFIED:20260216T095051Z
UID:1282-1780135200-1780246800@uptemiz.com
SUMMARY:Module A – Draveil (91) – Formation Chue Style Feng Shui Foundation
DESCRIPTION:Introduction au Feng Shui\, au nom du Président de la Fondation\, Grand Master Chan Kun Wah\, ainsi qu’au nom du Grand Master taoïste Chue Yen\, fondateur de l’Association. \nCe cours est dédié à toute personne désireuse de connaître le Feng Shui authentique\, vrai et profond\, selon les connaissances de la Lignée Chue Style. \n \nPendant ces deux jours\, les bases fondamentales de l’art du Feng Shui sont divulguées au travers de définitions et d’exemples concrets.  Vous apprenez le langage des principes fondamentaux et formez votre œil à observer. Avec la pratique\, vous comprenez facilement cette discipline et l’influence de votre environnement sur votre vie. \nA la fin de cette formation\, vous commencez à analyser vos lieux de vies\, en fonction de la forme\, de l’orientation et des couleurs. Vous détectez les secteurs à améliorer et amenez les premiers changements. Cette initiation traditionnellement enseignée oralement de Maître à élèves\, vous est délivrée avec un support de cours de 48 pages. \nJe m’inscris !
URL:https://uptemiz.com/event/module-a-draveil-91-formation-chue-style-feng-shui-foundation-14/
LOCATION:Uptemiz\, 43 rue du Marais\, Draveil\, 91210
CATEGORIES:Formation Module A
ORGANIZER;CN="C%C3%A9line Speranza":MAILTO:contact@uptemiz.com
END:VEVENT
BEGIN:VEVENT
DTSTART;TZID=Europe/Paris:20260608T093000
DTEND;TZID=Europe/Paris:20260609T170000
DTSTAMP:20260421T100800
CREATED:20260212T144950Z
LAST-MODIFIED:20260212T150806Z
UID:1248-1780911000-1781024400@uptemiz.com
SUMMARY:Formation pour les architectes et acteurs du cadre bâti - Paris (75)
DESCRIPTION:Session de 2 jours – Formation référencée à l’Ordre des Architectes \nA destination des architectes\, paysagistes\, concepteurs d’espace\, urbanistes\, géomètres\, conseillers et assistants de la maîtrise d’ouvrage\, élus\, acteurs due la conception d’espace\, CAUE\, PNR. \nLa construction est l’art d’assembler différents éléments en utilisant les matériaux et les techniques appropriés. \n \nL’architecture utilise le média de la construction pour porter un rêve\, une vision ou un projet\, c’est-à-dire une intentionnalité. \nLe Feng Shui met en évidence et agit sur un champ énergétique subtil qui relie l’homme\, son environnement et sa destinée (son histoire). Intégrer la pratique du Feng Shui à celle de l’architecture d’aujourd’hui\, c’est inclure dans l’intentionnalité de l’architecture la prise en compte de ses effets sur l’environnement et ses habitants. \nPar cette approche\, l’architecte ne se contente plus d’être l’auteur du décor : il devient co-auteur du scénario qui va s’y dérouler. \nLe Feng Shui Chue Style® est l’une des formes les plus pures et les plus abouties jamais enseignées en Occident. Bien que séculaire\, il offre une nouvelle perspective à l’architecture\, l’aménagement et au développement durable et une occasion d’implémenter notre point de vue sur cette question de concevoir pour préserver la vie. \nCette formation pose les notions fondamentales du Feng Shui Chue Style ® et s’adresse autant à des débutants qu’à des personnes ayant suivi des formations dans d’autres écoles. \nA la fin de cette formation\, vous commencez à analyser vos lieux de vies\, en fonction de la forme\, de l’orientation et des couleurs. Vous détectez les secteurs à améliorer et amenez les premiers changements. Venez avec vos plans et projets pour pratiquer. \nhttps://eva-adig.org/
URL:https://uptemiz.com/event/formation-pour-les-architectes-et-acteurs-du-cadre-bati-paris-75/
LOCATION:Pôle EVA\, 15 Rue Lucien Sampaix\, Paris\, 75010\, France
CATEGORIES:Formation pour les professionnels – entreprises
END:VEVENT
BEGIN:VEVENT
DTSTART;TZID=Europe/Paris:20260824T090000
DTEND;TZID=Europe/Paris:20260825T170000
DTSTAMP:20260421T100800
CREATED:20260213T135159Z
LAST-MODIFIED:20260217T102138Z
UID:1279-1787562000-1787677200@uptemiz.com
SUMMARY:Formation pour les architectes et les acteurs du cadre bâti - Nancy (54)
DESCRIPTION:Session de 2 jours – Formation référencée à l’Ordre des Architectes via Alfaformations. \nA destination des architectes\, paysagistes\, concepteurs d’espace\, urbanistes\, géomètres\, conseillers et assistants de la maîtrise d’ouvrage\, élus\, acteurs due la conception d’espace\, CAUE\, PNR. \nLa construction est l’art d’assembler différents éléments en utilisant les matériaux et les techniques appropriés. L’architecture utilise le média de la \n \nconstruction pour porter un rêve\, une vision ou un projet\, c’est-à-dire une intentionnalité. \nLe Feng Shui met en évidence et agit sur un champ énergétique subtil qui relie l’homme\, son environnement et sa destinée (son histoire). Intégrer la pratique du Feng Shui à celle de l’architecture d’aujourd’hui\, c’est inclure dans l’intentionnalité de l’architecture la prise en compte de ses effets sur l’environnement et ses habitants. \nPar cette approche\, l’architecte ne se contente plus d’être l’auteur du décor : il devient co-auteur du scénario qui va s’y dérouler. \nLe Feng Shui Chue Style® est l’une des formes les plus pures et les plus abouties jamais enseignées en Occident. Bien que séculaire\, il offre une nouvelle perspective à l’architecture\, l’aménagement et au développement durable et une occasion d’implémenter notre point de vue sur cette question de concevoir pour préserver la vie. \nCette formation pose les notions fondamentales du Feng Shui Chue Style ® et s’adresse autant à des débutants qu’à des personnes ayant suivi des formations dans d’autres écoles. \nA la fin de cette formation\, vous commencez à analyser vos lieux de vies\, en fonction de la forme\, de l’orientation et des couleurs. Vous détectez les secteurs à améliorer et amenez les premiers changements. Venez avec vos plans et projets pour pratiquer.
URL:https://uptemiz.com/event/formation-pour-les-architectes-et-les-acteurs-du-cadre-bati-nancy-54/
LOCATION:Conseil régional de l’Ordre des architectes Grand Est\, 5\, rue Hannong\, Strasbourg\, 67000
CATEGORIES:Formation pour les professionnels – entreprises
END:VEVENT
BEGIN:VEVENT
DTSTART;TZID=Europe/Paris:20260926T100000
DTEND;TZID=Europe/Paris:20260927T170000
DTSTAMP:20260421T100800
CREATED:20260216T095940Z
LAST-MODIFIED:20260216T095940Z
UID:1297-1790416800-1790528400@uptemiz.com
SUMMARY:Module A – Draveil (91) – Formation Chue Style Feng Shui Foundation
DESCRIPTION:Introduction au Feng Shui\, au nom du Président de la Fondation\, Grand Master Chan Kun Wah\, ainsi qu’au nom du Grand Master taoïste Chue Yen\, fondateur de l’Association. \nCe cours est dédié à toute personne désireuse de connaître le Feng Shui authentique\, vrai et profond\, selon les connaissances de la Lignée Chue Style. \n \nPendant ces deux jours\, les bases fondamentales de l’art du Feng Shui sont divulguées au travers de définitions et d’exemples concrets.  Vous apprenez le langage des principes fondamentaux et formez votre œil à observer. Avec la pratique\, vous comprenez facilement cette discipline et l’influence de votre environnement sur votre vie. \nA la fin de cette formation\, vous commencez à analyser vos lieux de vies\, en fonction de la forme\, de l’orientation et des couleurs. Vous détectez les secteurs à améliorer et amenez les premiers changements. Cette initiation traditionnellement enseignée oralement de Maître à élèves\, vous est délivrée avec un support de cours de 48 pages. \nJe m’inscris !
URL:https://uptemiz.com/event/module-a-draveil-91-formation-chue-style-feng-shui-foundation-16/
LOCATION:Uptemiz\, 43 rue du Marais\, Draveil\, 91210
CATEGORIES:Formation Module A
ORGANIZER;CN="C%C3%A9line Speranza":MAILTO:contact@uptemiz.com
END:VEVENT
END:VCALENDAR